BEGIN:VCALENDAR
VERSION:2.0
PRODID:-//Survival Expert - ECPv6.15.18//NONSGML v1.0//EN
CALSCALE:GREGORIAN
METHOD:PUBLISH
X-WR-CALNAME:Survival Expert
X-ORIGINAL-URL:https://survivalexpert.pl
X-WR-CALDESC:Wydarzenia dla Survival Expert
REFRESH-INTERVAL;VALUE=DURATION:PT1H
X-Robots-Tag:noindex
X-PUBLISHED-TTL:PT1H
BEGIN:VTIMEZONE
TZID:Europe/Warsaw
BEGIN:DAYLIGHT
TZOFFSETFROM:+0100
TZOFFSETTO:+0200
TZNAME:CEST
DTSTART:20250330T010000
END:DAYLIGHT
BEGIN:STANDARD
TZOFFSETFROM:+0200
TZOFFSETTO:+0100
TZNAME:CET
DTSTART:20251026T010000
END:STANDARD
BEGIN:DAYLIGHT
TZOFFSETFROM:+0100
TZOFFSETTO:+0200
TZNAME:CEST
DTSTART:20260329T010000
END:DAYLIGHT
BEGIN:STANDARD
TZOFFSETFROM:+0200
TZOFFSETTO:+0100
TZNAME:CET
DTSTART:20261025T010000
END:STANDARD
BEGIN:DAYLIGHT
TZOFFSETFROM:+0100
TZOFFSETTO:+0200
TZNAME:CEST
DTSTART:20270328T010000
END:DAYLIGHT
BEGIN:STANDARD
TZOFFSETFROM:+0200
TZOFFSETTO:+0100
TZNAME:CET
DTSTART:20271031T010000
END:STANDARD
END:VTIMEZONE
BEGIN:VEVENT
DTSTART;VALUE=DATE:20260321
DTEND;VALUE=DATE:20260323
DTSTAMP:20260419T181124
CREATED:20250707T094950Z
LAST-MODIFIED:20250714T093529Z
UID:5034-1774051200-1774223999@survivalexpert.pl
SUMMARY:[21 – 22 MARCA 2026] Obóz survivalowy elementarny (I stopień)
DESCRIPTION:Więcej o obozie survivalowym elementarnym dowiesz się tutaj. \nKup miejsce na obóz
URL:https://survivalexpert.pl/oboz/oboz-survivalowy-elementarny-i-stopien-21-22-03-2026/
END:VEVENT
END:VCALENDAR