BEGIN:VCALENDAR
VERSION:2.0
PRODID:-//Survival Expert - ECPv6.15.18//NONSGML v1.0//EN
CALSCALE:GREGORIAN
METHOD:PUBLISH
X-WR-CALNAME:Survival Expert
X-ORIGINAL-URL:https://survivalexpert.pl
X-WR-CALDESC:Wydarzenia dla Survival Expert
REFRESH-INTERVAL;VALUE=DURATION:PT1H
X-Robots-Tag:noindex
X-PUBLISHED-TTL:PT1H
BEGIN:VTIMEZONE
TZID:Europe/Warsaw
BEGIN:DAYLIGHT
TZOFFSETFROM:+0100
TZOFFSETTO:+0200
TZNAME:CEST
DTSTART:20240331T010000
END:DAYLIGHT
BEGIN:STANDARD
TZOFFSETFROM:+0200
TZOFFSETTO:+0100
TZNAME:CET
DTSTART:20241027T010000
END:STANDARD
BEGIN:DAYLIGHT
TZOFFSETFROM:+0100
TZOFFSETTO:+0200
TZNAME:CEST
DTSTART:20250330T010000
END:DAYLIGHT
BEGIN:STANDARD
TZOFFSETFROM:+0200
TZOFFSETTO:+0100
TZNAME:CET
DTSTART:20251026T010000
END:STANDARD
BEGIN:DAYLIGHT
TZOFFSETFROM:+0100
TZOFFSETTO:+0200
TZNAME:CEST
DTSTART:20260329T010000
END:DAYLIGHT
BEGIN:STANDARD
TZOFFSETFROM:+0200
TZOFFSETTO:+0100
TZNAME:CET
DTSTART:20261025T010000
END:STANDARD
END:VTIMEZONE
BEGIN:VEVENT
DTSTART;VALUE=DATE:20251018
DTEND;VALUE=DATE:20251020
DTSTAMP:20260419T193618
CREATED:20250414T085703Z
LAST-MODIFIED:20250901T103141Z
UID:4680-1760745600-1760918399@survivalexpert.pl
SUMMARY:WYPRZEDANY! [18 – 19 PAŹDZIERNIKA 2025] Obóz survivalowy elementarny (I stopień)
DESCRIPTION:Więcej o obozie survivalowym elementarnym dowiesz się tutaj.
URL:https://survivalexpert.pl/oboz/oboz-survivalowy-elementarny-i-stopien-18-19-pazdziernik-2025/
END:VEVENT
END:VCALENDAR