BEGIN:VCALENDAR
VERSION:2.0
PRODID:-//Survival Expert - ECPv6.15.18//NONSGML v1.0//EN
CALSCALE:GREGORIAN
METHOD:PUBLISH
X-WR-CALNAME:Survival Expert
X-ORIGINAL-URL:https://survivalexpert.pl
X-WR-CALDESC:Wydarzenia dla Survival Expert
REFRESH-INTERVAL;VALUE=DURATION:PT1H
X-Robots-Tag:noindex
X-PUBLISHED-TTL:PT1H
BEGIN:VTIMEZONE
TZID:Europe/Warsaw
BEGIN:DAYLIGHT
TZOFFSETFROM:+0100
TZOFFSETTO:+0200
TZNAME:CEST
DTSTART:20240331T010000
END:DAYLIGHT
BEGIN:STANDARD
TZOFFSETFROM:+0200
TZOFFSETTO:+0100
TZNAME:CET
DTSTART:20241027T010000
END:STANDARD
BEGIN:DAYLIGHT
TZOFFSETFROM:+0100
TZOFFSETTO:+0200
TZNAME:CEST
DTSTART:20250330T010000
END:DAYLIGHT
BEGIN:STANDARD
TZOFFSETFROM:+0200
TZOFFSETTO:+0100
TZNAME:CET
DTSTART:20251026T010000
END:STANDARD
BEGIN:DAYLIGHT
TZOFFSETFROM:+0100
TZOFFSETTO:+0200
TZNAME:CEST
DTSTART:20260329T010000
END:DAYLIGHT
BEGIN:STANDARD
TZOFFSETFROM:+0200
TZOFFSETTO:+0100
TZNAME:CET
DTSTART:20261025T010000
END:STANDARD
END:VTIMEZONE
BEGIN:VEVENT
DTSTART;VALUE=DATE:20250906
DTEND;VALUE=DATE:20250908
DTSTAMP:20260419T215137
CREATED:20240912T072331Z
LAST-MODIFIED:20250506T083305Z
UID:3604-1757116800-1757289599@survivalexpert.pl
SUMMARY:WYPRZEDANY! [6 – 7 WRZEŚNIA 2025] Obóz survivalowy bushcraftowy dla rodzin z dziećmi
DESCRIPTION:Marzysz o wyjątkowym wspólnym czasie z Twoim dzieckiem\, z dala od codziennego zgiełku\, ekranów i pośpiechu? Survival Expert ma dla Ciebie idealną propozycję! Nasz obóz survivalowy bushcraftowy dla rodziców z dziećmi to niezapomniana przygoda\, podczas której razem z Waszym dzieckiem odkryjecie tajniki natury i nauczycie się niezbędnych umiejętności przetrwania\, łącząc jednocześnie radość związaną z wspólnymi doświadczeniami. \nObóz dwudniowy (sobota-niedziela)\n6 – 7 WRZEŚNIA\nŚwieradów Zdrój\nCena: 799\,00 zł\nW ramach szkolenia zapewniamy:\n\nteren\nopiekę instruktorów\nnocleg\nsprzęt\nwyżywienie (3 posiłki)\nnapoje\nubezpieczenie NNW\n\nZapraszamy do przeczytania pełnego opisu szkolenia w naszej ofercie. \nChcesz o coś zapytać? Skontaktuj się z nami\, a my z chęcią odpowiemy na wszystkie pytania. \n  \n 
URL:https://survivalexpert.pl/oboz/oboz-survivalowy-bushcraftowy-6-7-wrzesnia-2025/
CATEGORIES:Bushcraft dla rodzica z dzieckiem
END:VEVENT
END:VCALENDAR