BEGIN:VCALENDAR
VERSION:2.0
PRODID:-//Survival Expert - ECPv6.15.18//NONSGML v1.0//EN
CALSCALE:GREGORIAN
METHOD:PUBLISH
X-WR-CALNAME:Survival Expert
X-ORIGINAL-URL:https://survivalexpert.pl
X-WR-CALDESC:Wydarzenia dla Survival Expert
REFRESH-INTERVAL;VALUE=DURATION:PT1H
X-Robots-Tag:noindex
X-PUBLISHED-TTL:PT1H
BEGIN:VTIMEZONE
TZID:Europe/Warsaw
BEGIN:DAYLIGHT
TZOFFSETFROM:+0100
TZOFFSETTO:+0200
TZNAME:CEST
DTSTART:20250330T010000
END:DAYLIGHT
BEGIN:STANDARD
TZOFFSETFROM:+0200
TZOFFSETTO:+0100
TZNAME:CET
DTSTART:20251026T010000
END:STANDARD
BEGIN:DAYLIGHT
TZOFFSETFROM:+0100
TZOFFSETTO:+0200
TZNAME:CEST
DTSTART:20260329T010000
END:DAYLIGHT
BEGIN:STANDARD
TZOFFSETFROM:+0200
TZOFFSETTO:+0100
TZNAME:CET
DTSTART:20261025T010000
END:STANDARD
BEGIN:DAYLIGHT
TZOFFSETFROM:+0100
TZOFFSETTO:+0200
TZNAME:CEST
DTSTART:20270328T010000
END:DAYLIGHT
BEGIN:STANDARD
TZOFFSETFROM:+0200
TZOFFSETTO:+0100
TZNAME:CET
DTSTART:20271031T010000
END:STANDARD
END:VTIMEZONE
BEGIN:VEVENT
DTSTART;VALUE=DATE:20260117
DTEND;VALUE=DATE:20260119
DTSTAMP:20260419T164640
CREATED:20250707T104353Z
LAST-MODIFIED:20250707T104518Z
UID:5060-1768608000-1768780799@survivalexpert.pl
SUMMARY:[17 – 18 STYCZNIA 2026] Szkolenie survivalowe – Specjalna zimowa edycja ❄️
DESCRIPTION:Ekstremalne wyzwanie\, praktyczne umiejętności i niezapomniana przygoda w zimowych warunkach! Naucz się budować schronienia\, rozpalać ogień i zdobywać pożywienie w terenie. \nKup miejsce na obóz
URL:https://survivalexpert.pl/oboz/17-18-01-2026-szkolenie-survivalowe-specjalna-zimowa-edycja/
END:VEVENT
END:VCALENDAR