BEGIN:VCALENDAR
VERSION:2.0
PRODID:-//Survival Expert - ECPv6.15.18//NONSGML v1.0//EN
CALSCALE:GREGORIAN
METHOD:PUBLISH
X-WR-CALNAME:Survival Expert
X-ORIGINAL-URL:https://survivalexpert.pl
X-WR-CALDESC:Wydarzenia dla Survival Expert
REFRESH-INTERVAL;VALUE=DURATION:PT1H
X-Robots-Tag:noindex
X-PUBLISHED-TTL:PT1H
BEGIN:VTIMEZONE
TZID:Europe/Warsaw
BEGIN:DAYLIGHT
TZOFFSETFROM:+0100
TZOFFSETTO:+0200
TZNAME:CEST
DTSTART:20250330T010000
END:DAYLIGHT
BEGIN:STANDARD
TZOFFSETFROM:+0200
TZOFFSETTO:+0100
TZNAME:CET
DTSTART:20251026T010000
END:STANDARD
BEGIN:DAYLIGHT
TZOFFSETFROM:+0100
TZOFFSETTO:+0200
TZNAME:CEST
DTSTART:20260329T010000
END:DAYLIGHT
BEGIN:STANDARD
TZOFFSETFROM:+0200
TZOFFSETTO:+0100
TZNAME:CET
DTSTART:20261025T010000
END:STANDARD
BEGIN:DAYLIGHT
TZOFFSETFROM:+0100
TZOFFSETTO:+0200
TZNAME:CEST
DTSTART:20270328T010000
END:DAYLIGHT
BEGIN:STANDARD
TZOFFSETFROM:+0200
TZOFFSETTO:+0100
TZNAME:CET
DTSTART:20271031T010000
END:STANDARD
END:VTIMEZONE
BEGIN:VEVENT
DTSTART;VALUE=DATE:20260613
DTEND;VALUE=DATE:20260615
DTSTAMP:20260419T223643
CREATED:20251104T191232Z
LAST-MODIFIED:20251104T193648Z
UID:5687-1781308800-1781481599@survivalexpert.pl
SUMMARY:[13 - 14 CZERWCA 2026] Obóz survivalowy bushcraftowy dla rodzin z dziećmi
DESCRIPTION:Więcej o obozie bushcraftowym dla rodzin z dziećmi dowiesz się tutaj. \nKup miejsce na obóz
URL:https://survivalexpert.pl/oboz/13-14-czerwca-2026-oboz-survivalowy-bushcraftowy-dla-rodzin-z-dziecmi/
END:VEVENT
END:VCALENDAR